BEGIN:VCALENDAR
METHOD:PUBLISH
VERSION:2.0
PRODID:-//Vinings Cumberland Induction Dinner//Calendar//EN

BEGIN:VEVENT
SUMMARY:Vinings Cumberland | Vinings Cumberland Induction Dinner
DESCRIPTION:Please join us for the Induction Dinner for our incoming President\, Jolene Northrop and a farewell to our current President Shawn Bendig at Maggiano's Cumberland Mall! 
X-ALT-DESC:<p>Please join us for the Induction Dinner for our incoming President, Jolene Northrop and a farewell to our current President Shawn Bendig at Maggiano's Cumberland Mall!&nbsp;</p><p><br></p>
UID:Event8527
DTSTART:20250626T220000Z
DTEND:20250627T000000Z
DTSTAMP:20250430T190220Z
LAST-MODIFIED:20250430T190220Z
END:VEVENT

END:VCALENDAR